BEGIN:VCALENDAR
VERSION:2.0
PRODID:-//217.160.0.14//NONSGML kigkonsult.se iCalcreator 2.20//
CALSCALE:GREGORIAN
METHOD:PUBLISH
X-WR-TIMEZONE:UTC
BEGIN:VEVENT
UID:event122@Billard Sport Braunschweig e. V.
DTSTAMP:20260419T184224Z
CATEGORIES:Schnupperspiel
DESCRIPTION:Schnupperspielen\nKategorie: Schnupperspiel\nICS-Link: http://w
 ww.billard-sport-braunschweig.de/index.php?option=com_jem&view=event&id=12
 2:schnupperspielen\n
DTSTART:20250905T180000Z
DTEND:20250905T220000Z
LOCATION:BS Braunschweig e. V.\,Bevenroder Straße 150\,38108 Braunschweig
SUMMARY:Schnupperspielen
URL:http://www.billard-sport-braunschweig.de/index.php?option=com_jem&view=
 event&id=122:schnupperspielen
END:VEVENT
END:VCALENDAR