BEGIN:VCALENDAR
VERSION:2.0
PRODID:-//217.160.0.14//NONSGML kigkonsult.se iCalcreator 2.20//
CALSCALE:GREGORIAN
METHOD:PUBLISH
X-WR-TIMEZONE:UTC
BEGIN:VEVENT
UID:event129@Billard Sport Braunschweig e. V.
DTSTAMP:20260419T182138Z
CATEGORIES:Schnupperspiel
DESCRIPTION:Schnupperspielen\nKategorie: Schnupperspiel\nICS-Link: http://w
 ww.billard-sport-braunschweig.de/index.php?option=com_jem&view=event&id=12
 9:schnupperspielen\n
DTSTART:20251024T180000Z
DTEND:20251024T220000Z
LOCATION:BS Braunschweig e. V.\,Bevenroder Straße 150\,38108 Braunschweig
SUMMARY:Schnupperspielen
URL:http://www.billard-sport-braunschweig.de/index.php?option=com_jem&view=
 event&id=129:schnupperspielen
END:VEVENT
END:VCALENDAR