BEGIN:VCALENDAR
VERSION:2.0
PRODID:-//217.160.0.14//NONSGML kigkonsult.se iCalcreator 2.20//
CALSCALE:GREGORIAN
METHOD:PUBLISH
X-WR-TIMEZONE:UTC
BEGIN:VEVENT
UID:event139@Billard Sport Braunschweig e. V.
DTSTAMP:20260419T184208Z
CATEGORIES:Turnier - Snooker
DESCRIPTION:Landesmeisterschaft 6 Reds\nKategorie: Turnier - Snooker\nICS-L
 ink: http://www.billard-sport-braunschweig.de/index.php?option=com_jem&vie
 w=event&id=139:landesmeisterschaft-6-reds\n
DTSTART:20260215T100000Z
DTEND:20260215T100000Z
LOCATION:BS Braunschweig e. V.\,Bevenroder Straße 150\,38108 Braunschweig
SUMMARY:Landesmeisterschaft 6 Reds
URL:http://www.billard-sport-braunschweig.de/index.php?option=com_jem&view=
 event&id=139:landesmeisterschaft-6-reds
END:VEVENT
END:VCALENDAR