BEGIN:VCALENDAR
VERSION:2.0
PRODID:-//217.160.0.14//NONSGML kigkonsult.se iCalcreator 2.20//
CALSCALE:GREGORIAN
METHOD:PUBLISH
X-WR-TIMEZONE:UTC
BEGIN:VEVENT
UID:event24@Billard Sport Braunschweig e. V.
DTSTAMP:20260421T091752Z
CATEGORIES:Vereinsmeisterschaften
DESCRIPTION:Vereinsmeisterschaft - 8-Ball\nKategorie: Vereinsmeisterschafte
 n\nICS-Link: http://www.billard-sport-braunschweig.de/index.php?option=com
 _jem&view=event&id=24:vereinsmeisterschaft-8-ball\n
DTSTART;VALUE=DATE:20250823
DTEND;VALUE=DATE:20250824
LOCATION:BS Braunschweig e. V.\,Bevenroder Straße 150\,38108 Braunschweig
SUMMARY:Vereinsmeisterschaft - 8-Ball
URL:http://www.billard-sport-braunschweig.de/index.php?option=com_jem&view=
 event&id=24:vereinsmeisterschaft-8-ball
END:VEVENT
END:VCALENDAR