BEGIN:VCALENDAR
VERSION:2.0
PRODID:-//217.160.0.14//NONSGML kigkonsult.se iCalcreator 2.20//
CALSCALE:GREGORIAN
METHOD:PUBLISH
X-WR-TIMEZONE:UTC
BEGIN:VEVENT
UID:event27@Billard Sport Braunschweig e. V.
DTSTAMP:20260419T184125Z
CATEGORIES:Schnupperspiel
DESCRIPTION:Schnupperspiel\nKategorie: Schnupperspiel\nICS-Link: http://www
 .billard-sport-braunschweig.de/index.php?option=com_jem&view=event&id=27:s
 chnupperspiel\n
DTSTART:20250815T180000Z
DTEND:20250815T220000Z
LOCATION:BS Braunschweig e. V.\,Bevenroder Straße 150\,38108 Braunschweig
SUMMARY:Schnupperspiel
URL:http://www.billard-sport-braunschweig.de/index.php?option=com_jem&view=
 event&id=27:schnupperspiel
END:VEVENT
END:VCALENDAR