BEGIN:VCALENDAR
VERSION:2.0
PRODID:-//217.160.0.14//NONSGML kigkonsult.se iCalcreator 2.20//
CALSCALE:GREGORIAN
METHOD:PUBLISH
X-WR-TIMEZONE:UTC
BEGIN:VEVENT
UID:event80@Billard Sport Braunschweig e. V.
DTSTAMP:20260421T090820Z
CATEGORIES:Spieltage
DESCRIPTION:BSB 4 - Heimspieltag\nKategorie: Spieltage\nICS-Link: http://ww
 w.billard-sport-braunschweig.de/index.php?option=com_jem&view=event&id=80:
 bsb-4-heimspieltag\n
DTSTART:20260502T130000Z
DTEND:20260502T130000Z
LOCATION:BS Braunschweig e. V.\,Bevenroder Straße 150\,38108 Braunschweig\,
 Germany
SUMMARY:BSB 4 - Heimspieltag
URL:http://www.billard-sport-braunschweig.de/index.php?option=com_jem&view=
 event&id=80:bsb-4-heimspieltag
END:VEVENT
BEGIN:VEVENT
UID:event86@Billard Sport Braunschweig e. V.
DTSTAMP:20260421T090820Z
CATEGORIES:Spieltage
DESCRIPTION:BSB 3 - Heimspieltag\nKategorie: Spieltage\nICS-Link: http://ww
 w.billard-sport-braunschweig.de/index.php?option=com_jem&view=event&id=86:
 bsb-3-heimspieltag\n
DTSTART:20260502T130000Z
DTEND:20260502T130000Z
LOCATION:BS Braunschweig e. V.\,Bevenroder Straße 150\,38108 Braunschweig\,
 Germany
SUMMARY:BSB 3 - Heimspieltag
URL:http://www.billard-sport-braunschweig.de/index.php?option=com_jem&view=
 event&id=86:bsb-3-heimspieltag
END:VEVENT
BEGIN:VEVENT
UID:event118@Billard Sport Braunschweig e. V.
DTSTAMP:20260421T090820Z
CATEGORIES:Spieltage
DESCRIPTION:BSB 1 - Snooker - Heimspieltag\nKategorie: Spieltage\nICS-Link:
  http://www.billard-sport-braunschweig.de/index.php?option=com_jem&view=ev
 ent&id=118:bsb-1-snooker-heimspieltag\n
DTSTART:20260509T130000Z
DTEND:20260509T130000Z
LOCATION:BS Braunschweig e. V.\,Bevenroder Straße 150\,38108 Braunschweig\,
 Germany
SUMMARY:BSB 1 - Snooker - Heimspieltag
URL:http://www.billard-sport-braunschweig.de/index.php?option=com_jem&view=
 event&id=118:bsb-1-snooker-heimspieltag
END:VEVENT
BEGIN:VEVENT
UID:event119@Billard Sport Braunschweig e. V.
DTSTAMP:20260421T090820Z
CATEGORIES:Spieltage
DESCRIPTION:BSB 4 - Heimspieltag - Snooker\nKategorie: Spieltage\nICS-Link:
  http://www.billard-sport-braunschweig.de/index.php?option=com_jem&view=ev
 ent&id=119:bsb-4-heimspieltag-snooker\n
DTSTART:20260509T130000Z
DTEND:20260509T130000Z
LOCATION:BS Braunschweig e. V.\,Bevenroder Straße 150\,38108 Braunschweig\,
 Germany
SUMMARY:BSB 4 - Heimspieltag - Snooker
URL:http://www.billard-sport-braunschweig.de/index.php?option=com_jem&view=
 event&id=119:bsb-4-heimspieltag-snooker
END:VEVENT
END:VCALENDAR